BEGIN:VCALENDAR
VERSION:2.0
PRODID:-//Mount Sinai International School - ECPv6.15.20//NONSGML v1.0//EN
CALSCALE:GREGORIAN
METHOD:PUBLISH
X-ORIGINAL-URL:https://mountsinaiinternationalschools.com
X-WR-CALDESC:Events for Mount Sinai International School
REFRESH-INTERVAL;VALUE=DURATION:PT1H
X-Robots-Tag:noindex
X-PUBLISHED-TTL:PT1H
BEGIN:VTIMEZONE
TZID:Africa/Blantyre
BEGIN:STANDARD
TZOFFSETFROM:+0200
TZOFFSETTO:+0200
TZNAME:CAT
DTSTART:20240101T000000
END:STANDARD
END:VTIMEZONE
BEGIN:VEVENT
DTSTART;TZID=Africa/Blantyre:20251006T080000
DTEND;TZID=Africa/Blantyre:20251010T140000
DTSTAMP:20260424T083225
CREATED:20250827T074545Z
LAST-MODIFIED:20250827T074545Z
UID:3319-1759737600-1760104800@mountsinaiinternationalschools.com
SUMMARY:MID-TERM EXAMINATIONS
DESCRIPTION:MID-TERM EXAMINATIONS (40% OF OVERALL GRADE)\nMIDDLE SCHOOL\nHIGH SCHOOL
URL:https://mountsinaiinternationalschools.com/event/mid-term-examinations-5/
LOCATION:Mount Sinai International School\, Lilongwe\, Malawi
CATEGORIES:Academic
END:VEVENT
BEGIN:VEVENT
DTSTART;VALUE=DATE:20251013
DTEND;VALUE=DATE:20251018
DTSTAMP:20260424T083225
CREATED:20250710T070327Z
LAST-MODIFIED:20250710T070327Z
UID:3239-1760313600-1760745599@mountsinaiinternationalschools.com
SUMMARY:Autumn Half Term
DESCRIPTION:
URL:https://mountsinaiinternationalschools.com/event/autumn-half-term/
CATEGORIES:Academic
END:VEVENT
BEGIN:VEVENT
DTSTART;TZID=Africa/Blantyre:20251024T080000
DTEND;TZID=Africa/Blantyre:20251024T170000
DTSTAMP:20260424T083225
CREATED:20250827T074652Z
LAST-MODIFIED:20250827T074652Z
UID:3323-1761292800-1761325200@mountsinaiinternationalschools.com
SUMMARY:PARENT-TEACHER CONSULTATION DAY
DESCRIPTION:PARENT-TEACHER CONSULTATION DAY
URL:https://mountsinaiinternationalschools.com/event/parent-teacher-consultation-day/
CATEGORIES:Academic
END:VEVENT
BEGIN:VEVENT
DTSTART;TZID=Africa/Blantyre:20251024T080000
DTEND;TZID=Africa/Blantyre:20251024T170000
DTSTAMP:20260424T083225
CREATED:20250827T074720Z
LAST-MODIFIED:20250827T074720Z
UID:3325-1761292800-1761325200@mountsinaiinternationalschools.com
SUMMARY:Deadline for 100% fees payment for all returning students
DESCRIPTION:Deadline for 100% fees payment for all returning students
URL:https://mountsinaiinternationalschools.com/event/deadline-for-100-fees-payment-for-all-returning-students/
CATEGORIES:Academic
END:VEVENT
END:VCALENDAR