BEGIN:VCALENDAR
VERSION:2.0
PRODID:-//Mount Sinai International School - ECPv6.15.20//NONSGML v1.0//EN
CALSCALE:GREGORIAN
METHOD:PUBLISH
X-ORIGINAL-URL:https://mountsinaiinternationalschools.com
X-WR-CALDESC:Events for Mount Sinai International School
REFRESH-INTERVAL;VALUE=DURATION:PT1H
X-Robots-Tag:noindex
X-PUBLISHED-TTL:PT1H
BEGIN:VTIMEZONE
TZID:Africa/Blantyre
BEGIN:STANDARD
TZOFFSETFROM:+0200
TZOFFSETTO:+0200
TZNAME:CAT
DTSTART:20240101T000000
END:STANDARD
END:VTIMEZONE
BEGIN:VEVENT
DTSTART;VALUE=DATE:20250916
DTEND;VALUE=DATE:20250917
DTSTAMP:20260424T060007
CREATED:20250827T074330Z
LAST-MODIFIED:20250827T074330Z
UID:3313-1757980800-1758067199@mountsinaiinternationalschools.com
SUMMARY:NATIONAL ELECTIONS
DESCRIPTION:NATIONAL ELECTIONS
URL:https://mountsinaiinternationalschools.com/event/national-elections/
CATEGORIES:National
END:VEVENT
END:VCALENDAR