BEGIN:VCALENDAR
VERSION:2.0
PRODID:-//Mount Sinai International School - ECPv6.15.20//NONSGML v1.0//EN
CALSCALE:GREGORIAN
METHOD:PUBLISH
X-ORIGINAL-URL:https://mountsinaiinternationalschools.com
X-WR-CALDESC:Events for Mount Sinai International School
REFRESH-INTERVAL;VALUE=DURATION:PT1H
X-Robots-Tag:noindex
X-PUBLISHED-TTL:PT1H
BEGIN:VTIMEZONE
TZID:Africa/Blantyre
BEGIN:STANDARD
TZOFFSETFROM:+0200
TZOFFSETTO:+0200
TZNAME:CAT
DTSTART:20250101T000000
END:STANDARD
END:VTIMEZONE
BEGIN:VEVENT
DTSTART;VALUE=DATE:20260106
DTEND;VALUE=DATE:20260107
DTSTAMP:20260423T235218
CREATED:20250710T072138Z
LAST-MODIFIED:20250710T072138Z
UID:3249-1767657600-1767743999@mountsinaiinternationalschools.com
SUMMARY:2026 Sprint Term Starts
DESCRIPTION:
URL:https://mountsinaiinternationalschools.com/event/2026-sprint-term-starts/
CATEGORIES:Academic
END:VEVENT
BEGIN:VEVENT
DTSTART;TZID=Africa/Blantyre:20260402T080000
DTEND;TZID=Africa/Blantyre:20260402T170000
DTSTAMP:20260423T235218
CREATED:20250710T072211Z
LAST-MODIFIED:20250710T072211Z
UID:3251-1775116800-1775149200@mountsinaiinternationalschools.com
SUMMARY:2026 Sprint Term Ends
DESCRIPTION:
URL:https://mountsinaiinternationalschools.com/event/2026-sprint-term-ends/
CATEGORIES:Academic
END:VEVENT
BEGIN:VEVENT
DTSTART;VALUE=DATE:20260420
DTEND;VALUE=DATE:20260421
DTSTAMP:20260423T235218
CREATED:20250710T072255Z
LAST-MODIFIED:20250710T072255Z
UID:3253-1776643200-1776729599@mountsinaiinternationalschools.com
SUMMARY:2026 Summer Term Starts
DESCRIPTION:
URL:https://mountsinaiinternationalschools.com/event/2026-summer-term-starts/
CATEGORIES:Academic
END:VEVENT
BEGIN:VEVENT
DTSTART;VALUE=DATE:20260703
DTEND;VALUE=DATE:20260704
DTSTAMP:20260423T235218
CREATED:20250710T072327Z
LAST-MODIFIED:20250710T072327Z
UID:3255-1783036800-1783123199@mountsinaiinternationalschools.com
SUMMARY:2026 Summer Term Ends
DESCRIPTION:
URL:https://mountsinaiinternationalschools.com/event/2026-summer-term-ends/
CATEGORIES:Academic
END:VEVENT
END:VCALENDAR