BEGIN:VCALENDAR
VERSION:2.0
PRODID:-//Mount Sinai International School - ECPv6.15.20//NONSGML v1.0//EN
CALSCALE:GREGORIAN
METHOD:PUBLISH
X-ORIGINAL-URL:https://mountsinaiinternationalschools.com
X-WR-CALDESC:Events for Mount Sinai International School
REFRESH-INTERVAL;VALUE=DURATION:PT1H
X-Robots-Tag:noindex
X-PUBLISHED-TTL:PT1H
BEGIN:VTIMEZONE
TZID:Africa/Blantyre
BEGIN:STANDARD
TZOFFSETFROM:+0200
TZOFFSETTO:+0200
TZNAME:CAT
DTSTART:20240101T000000
END:STANDARD
END:VTIMEZONE
BEGIN:VEVENT
DTSTART;VALUE=DATE:20250916
DTEND;VALUE=DATE:20250917
DTSTAMP:20260424T012605
CREATED:20250827T074330Z
LAST-MODIFIED:20250827T074330Z
UID:3313-1757980800-1758067199@mountsinaiinternationalschools.com
SUMMARY:NATIONAL ELECTIONS
DESCRIPTION:NATIONAL ELECTIONS
URL:https://mountsinaiinternationalschools.com/event/national-elections/
CATEGORIES:National
END:VEVENT
BEGIN:VEVENT
DTSTART;TZID=Africa/Blantyre:20250915T130000
DTEND;TZID=Africa/Blantyre:20250918T160000
DTSTAMP:20260424T012605
CREATED:20250827T074216Z
LAST-MODIFIED:20250827T074216Z
UID:3309-1757941200-1758211200@mountsinaiinternationalschools.com
SUMMARY:AFTER SCHOOL ACTIVITIES BEGIN
DESCRIPTION:AFTER SCHOOL ACTIVITIES BEGIN\nMiddle School closes at 2.30pm (From Tuesday 16th September 2025)\nHigh School closes at 3.30pm
URL:https://mountsinaiinternationalschools.com/event/after-school-activities-begin/
LOCATION:Mount Sinai International School\, Lilongwe\, Malawi
CATEGORIES:Extracurricular
END:VEVENT
BEGIN:VEVENT
DTSTART;VALUE=DATE:20250915
DTEND;VALUE=DATE:20250916
DTSTAMP:20260424T012605
CREATED:20250827T074248Z
LAST-MODIFIED:20250827T074248Z
UID:3311-1757894400-1757980799@mountsinaiinternationalschools.com
SUMMARY:BASELINE ASSESSMENTS
DESCRIPTION:BASELINE ASSESSMENTS (CORE SUBJECTS- MATHS/ ENGLISH) FOR STUDENTS FROM YEAR 1 TO YEAR 10 ONLY
URL:https://mountsinaiinternationalschools.com/event/baseline-assessments/
CATEGORIES:Academic
END:VEVENT
BEGIN:VEVENT
DTSTART;VALUE=DATE:20250912
DTEND;VALUE=DATE:20250913
DTSTAMP:20260424T012605
CREATED:20250827T074106Z
LAST-MODIFIED:20250827T074106Z
UID:3307-1757635200-1757721599@mountsinaiinternationalschools.com
SUMMARY:Deadline for fees payment
DESCRIPTION:Deadline for 100% fees payment for Examination classes Year 6\, 9\,11 \n 50% School fees payment deadline for all returning students
URL:https://mountsinaiinternationalschools.com/event/deadline-for-fees-payment/
LOCATION:Mount Sinai International School\, Lilongwe\, Malawi
CATEGORIES:Academic
END:VEVENT
BEGIN:VEVENT
DTSTART;TZID=Africa/Blantyre:20250911T080000
DTEND;TZID=Africa/Blantyre:20250912T170000
DTSTAMP:20260424T012605
CREATED:20250827T074008Z
LAST-MODIFIED:20250827T074008Z
UID:3305-1757577600-1757696400@mountsinaiinternationalschools.com
SUMMARY:New Parent Orientation
DESCRIPTION:New Parent Orientation (Junior School)\nYear 4 & 7 Parent orientation program
URL:https://mountsinaiinternationalschools.com/event/new-parent-orientation-2/
LOCATION:Mount Sinai International School\, Lilongwe\, Malawi
CATEGORIES:Academic
END:VEVENT
BEGIN:VEVENT
DTSTART;VALUE=DATE:20250908
DTEND;VALUE=DATE:20250913
DTSTAMP:20260424T012605
CREATED:20250827T073809Z
LAST-MODIFIED:20250827T073809Z
UID:3303-1757289600-1757721599@mountsinaiinternationalschools.com
SUMMARY:School closing times
DESCRIPTION:Middle School closes at 1pm\nHigh School closes at 2pm
URL:https://mountsinaiinternationalschools.com/event/school-closing-times/
LOCATION:Mount Sinai International School\, Lilongwe\, Malawi
CATEGORIES:Academic
END:VEVENT
BEGIN:VEVENT
DTSTART;VALUE=DATE:20250908
DTEND;VALUE=DATE:20250909
DTSTAMP:20260424T012605
CREATED:20250827T073645Z
LAST-MODIFIED:20250827T073645Z
UID:3301-1757289600-1757375999@mountsinaiinternationalschools.com
SUMMARY:First Day of School
DESCRIPTION:First Day of School\nDeadline for 100% School fees payment for new students and\, Primary and Secondary Check point and Year 11 IGCSE students
URL:https://mountsinaiinternationalschools.com/event/first-day-of-school-5/
LOCATION:Mount Sinai International School\, Lilongwe\, Malawi
CATEGORIES:Academic
END:VEVENT
BEGIN:VEVENT
DTSTART;VALUE=DATE:20250902
DTEND;VALUE=DATE:20250903
DTSTAMP:20260424T012605
CREATED:20250710T070236Z
LAST-MODIFIED:20250710T070236Z
UID:3237-1756771200-1756857599@mountsinaiinternationalschools.com
SUMMARY:2025 Autumn Term Starts
DESCRIPTION:
URL:https://mountsinaiinternationalschools.com/event/2025-autumn-term-starts/
CATEGORIES:Academic
END:VEVENT
END:VCALENDAR