BEGIN:VCALENDAR
VERSION:2.0
PRODID:-//Mount Sinai International School - ECPv6.15.20//NONSGML v1.0//EN
CALSCALE:GREGORIAN
METHOD:PUBLISH
X-WR-CALNAME:Mount Sinai International School
X-ORIGINAL-URL:https://mountsinaiinternationalschools.com
X-WR-CALDESC:Events for Mount Sinai International School
REFRESH-INTERVAL;VALUE=DURATION:PT1H
X-Robots-Tag:noindex
X-PUBLISHED-TTL:PT1H
BEGIN:VTIMEZONE
TZID:Africa/Blantyre
BEGIN:STANDARD
TZOFFSETFROM:+0200
TZOFFSETTO:+0200
TZNAME:CAT
DTSTART:20240101T000000
END:STANDARD
END:VTIMEZONE
BEGIN:VEVENT
DTSTART;TZID=Africa/Blantyre:20251103T080000
DTEND;TZID=Africa/Blantyre:20251103T170000
DTSTAMP:20260424T012333
CREATED:20250827T074809Z
LAST-MODIFIED:20250827T074809Z
UID:3327-1762156800-1762189200@mountsinaiinternationalschools.com
SUMMARY:Returning student school fees exclusions (100% non-fees payment)
DESCRIPTION:Returning student school fees exclusions (100% non-fees payment)
URL:https://mountsinaiinternationalschools.com/event/returning-student-school-fees-exclusions-100-non-fees-payment/
CATEGORIES:Academic
END:VEVENT
BEGIN:VEVENT
DTSTART;TZID=Africa/Blantyre:20251110T080000
DTEND;TZID=Africa/Blantyre:20251114T170000
DTSTAMP:20260424T012333
CREATED:20250827T074924Z
LAST-MODIFIED:20250827T074924Z
UID:3329-1762761600-1763139600@mountsinaiinternationalschools.com
SUMMARY:Global Entrepreneurship week - YEAR 11
DESCRIPTION:Global Entrepreneurship week – YEAR 11 (ENTERPRISE CLASS)
URL:https://mountsinaiinternationalschools.com/event/global-entrepreneurship-week-year-11/
LOCATION:Mount Sinai International School\, Lilongwe\, Malawi
CATEGORIES:Extracurricular
END:VEVENT
BEGIN:VEVENT
DTSTART;TZID=Africa/Blantyre:20251117T080000
DTEND;TZID=Africa/Blantyre:20251120T170000
DTSTAMP:20260424T012333
CREATED:20250827T075012Z
LAST-MODIFIED:20250827T075012Z
UID:3331-1763366400-1763658000@mountsinaiinternationalschools.com
SUMMARY:LAST WEEK OF AFTER SCHOOL ACTIVITIES EXCEPT PAID ACTIVITIES
DESCRIPTION:LAST WEEK OF AFTER SCHOOL ACTIVITIES EXCEPT PAID ACTIVITIES
URL:https://mountsinaiinternationalschools.com/event/last-week-of-after-school-activities-except-paid-activities/
CATEGORIES:Extracurricular
END:VEVENT
BEGIN:VEVENT
DTSTART;TZID=Africa/Blantyre:20251120T080000
DTEND;TZID=Africa/Blantyre:20251120T170000
DTSTAMP:20260424T012333
CREATED:20250827T075049Z
LAST-MODIFIED:20250827T075049Z
UID:3333-1763625600-1763658000@mountsinaiinternationalschools.com
SUMMARY:World Children’s day
DESCRIPTION:World Children’s day
URL:https://mountsinaiinternationalschools.com/event/world-childrens-day/
CATEGORIES:Extracurricular
END:VEVENT
BEGIN:VEVENT
DTSTART;TZID=Africa/Blantyre:20251124T080000
DTEND;TZID=Africa/Blantyre:20251205T170000
DTSTAMP:20260424T012333
CREATED:20250827T075343Z
LAST-MODIFIED:20250827T075343Z
UID:3335-1763971200-1764954000@mountsinaiinternationalschools.com
SUMMARY:MIDDLE TO HIGH SCHOOL END OF TERM EXAMINATIONS
DESCRIPTION:MIDDLE TO HIGH SCHOOL END OF TERM EXAMINATIONS  (60% OF OVERALL GRADE)
URL:https://mountsinaiinternationalschools.com/event/middle-to-high-school-end-of-term-examinations/
LOCATION:Mount Sinai International School\, Lilongwe\, Malawi
CATEGORIES:Academic
END:VEVENT
BEGIN:VEVENT
DTSTART;TZID=Africa/Blantyre:20251126T080000
DTEND;TZID=Africa/Blantyre:20251201T170000
DTSTAMP:20260424T012333
CREATED:20250827T075434Z
LAST-MODIFIED:20250827T075434Z
UID:3337-1764144000-1764608400@mountsinaiinternationalschools.com
SUMMARY:MIDDLE TO HIGH SCHOOL END OF TERM EXAMINATIONS
DESCRIPTION:MIDDLE TO HIGH SCHOOL END OF TERM EXAMINATIONS  (60% OF OVERALL GRADE)
URL:https://mountsinaiinternationalschools.com/event/middle-to-high-school-end-of-term-examinations-2/
LOCATION:Mount Sinai International School\, Lilongwe\, Malawi
CATEGORIES:Academic
END:VEVENT
END:VCALENDAR